BEGIN:VCALENDAR
VERSION:2.0
PRODID:-//Jungwacht Blauring St.Otmar-Riethüsli - ECPv6.15.14//NONSGML v1.0//EN
CALSCALE:GREGORIAN
METHOD:PUBLISH
X-WR-CALNAME:Jungwacht Blauring St.Otmar-Riethüsli
X-ORIGINAL-URL:https://jubla-st-otmar-riethuesli.ch
X-WR-CALDESC:Veranstaltungen im Jungwacht Blauring St.Otmar-Riethüsli
REFRESH-INTERVAL;VALUE=DURATION:PT1H
X-Robots-Tag:noindex
X-PUBLISHED-TTL:PT1H
BEGIN:VTIMEZONE
TZID:UTC
BEGIN:STANDARD
TZOFFSETFROM:+0000
TZOFFSETTO:+0000
TZNAME:UTC
DTSTART:20240101T000000
END:STANDARD
END:VTIMEZONE
BEGIN:VEVENT
DTSTART;TZID=UTC:20251025T140000
DTEND;TZID=UTC:20251025T160000
DTSTAMP:20260420T010304
CREATED:20250926T140020Z
LAST-MODIFIED:20250926T140020Z
UID:3247-1761400800-1761408000@jubla-st-otmar-riethuesli.ch
SUMMARY:Erste Gruppenstunde neue Gruppen
DESCRIPTION:Am ersten Samstag nach den Herbstferien findet die erste Gruppenstunde für die neuen Gruppen statt. Jungwacht und Blauring bildet eine neue Gruppe mit Jungs oder Mädels in der 1. und 2. Klasse. Wir freuen uns über alle die kommen. Also nehmt gerne Gspähnli\, Nachbarn und Freunde / Freundinnen mit.  \nTreffpunkt beim Spielplatz Schulhaus Riethüsli.  \nKontakt für weitere Infos:\nMädels: Joline Summermatter\, +41 79 547 98 92\nJungs: Julian Stadelmann\, +41 78 226 02 12
URL:https://jubla-st-otmar-riethuesli.ch/agenda/erste-gruppenstunde-neue-gruppen/
LOCATION:Spielplatz Schulhaus Riethüsli
END:VEVENT
END:VCALENDAR