BEGIN:VCALENDAR
VERSION:2.0
PRODID:-//Jungwacht Blauring St.Otmar-Riethüsli - ECPv6.15.14//NONSGML v1.0//EN
CALSCALE:GREGORIAN
METHOD:PUBLISH
X-WR-CALNAME:Jungwacht Blauring St.Otmar-Riethüsli
X-ORIGINAL-URL:https://jubla-st-otmar-riethuesli.ch
X-WR-CALDESC:Veranstaltungen im Jungwacht Blauring St.Otmar-Riethüsli
REFRESH-INTERVAL;VALUE=DURATION:PT1H
X-Robots-Tag:noindex
X-PUBLISHED-TTL:PT1H
BEGIN:VTIMEZONE
TZID:UTC
BEGIN:STANDARD
TZOFFSETFROM:+0000
TZOFFSETTO:+0000
TZNAME:UTC
DTSTART:20240101T000000
END:STANDARD
END:VTIMEZONE
BEGIN:VEVENT
DTSTART;VALUE=DATE:20250913
DTEND;VALUE=DATE:20250914
DTSTAMP:20260420T024759
CREATED:20250319T190004Z
LAST-MODIFIED:20250319T190004Z
UID:3118-1757721600-1757807999@jubla-st-otmar-riethuesli.ch
SUMMARY:Jubla-Tag
DESCRIPTION:
URL:https://jubla-st-otmar-riethuesli.ch/agenda/jubla-tag/
CATEGORIES:Scharanlass
END:VEVENT
BEGIN:VEVENT
DTSTART;TZID=UTC:20250920T180000
DTEND;TZID=UTC:20250920T220000
DTSTAMP:20260420T024759
CREATED:20250912T172242Z
LAST-MODIFIED:20250926T135522Z
UID:3211-1758391200-1758405600@jubla-st-otmar-riethuesli.ch
SUMMARY:Lagerrückblick
DESCRIPTION:
URL:https://jubla-st-otmar-riethuesli.ch/agenda/lagerrueckblick/
LOCATION:Pfarreisaal St.Otmar\, Grenzstrasse 10\, St.Gallen\, 9000\, Switzerland
END:VEVENT
END:VCALENDAR