BEGIN:VCALENDAR
VERSION:2.0
PRODID:-//Jungwacht Blauring St.Otmar-Riethüsli - ECPv6.15.14//NONSGML v1.0//EN
CALSCALE:GREGORIAN
METHOD:PUBLISH
X-WR-CALNAME:Jungwacht Blauring St.Otmar-Riethüsli
X-ORIGINAL-URL:https://jubla-st-otmar-riethuesli.ch
X-WR-CALDESC:Veranstaltungen im Jungwacht Blauring St.Otmar-Riethüsli
REFRESH-INTERVAL;VALUE=DURATION:PT1H
X-Robots-Tag:noindex
X-PUBLISHED-TTL:PT1H
BEGIN:VTIMEZONE
TZID:UTC
BEGIN:STANDARD
TZOFFSETFROM:+0000
TZOFFSETTO:+0000
TZNAME:UTC
DTSTART:20240101T000000
END:STANDARD
END:VTIMEZONE
BEGIN:VEVENT
DTSTART;VALUE=DATE:20250510
DTEND;VALUE=DATE:20250511
DTSTAMP:20260420T025743
CREATED:20250319T185559Z
LAST-MODIFIED:20250319T185559Z
UID:3108-1746835200-1746921599@jubla-st-otmar-riethuesli.ch
SUMMARY:Spaghettiplausch
DESCRIPTION:
URL:https://jubla-st-otmar-riethuesli.ch/agenda/spaghettiplausch/
CATEGORIES:Scharanlass
ORGANIZER;CN="Jubla St.Otmar-Rieth%C3%BCsli":MAILTO:jubla-stor@gmx.ch
END:VEVENT
BEGIN:VEVENT
DTSTART;VALUE=DATE:20250426
DTEND;VALUE=DATE:20250427
DTSTAMP:20260420T025743
CREATED:20250319T185454Z
LAST-MODIFIED:20250319T185454Z
UID:3106-1745625600-1745711999@jubla-st-otmar-riethuesli.ch
SUMMARY:Releuplausch
DESCRIPTION:
URL:https://jubla-st-otmar-riethuesli.ch/agenda/releuplausch/
CATEGORIES:Scharanlass
ORGANIZER;CN="Jubla St.Otmar-Rieth%C3%BCsli":MAILTO:jubla-stor@gmx.ch
END:VEVENT
END:VCALENDAR