BEGIN:VCALENDAR
VERSION:2.0
PRODID:-//Jungwacht Blauring St.Otmar-Riethüsli - ECPv6.15.14//NONSGML v1.0//EN
CALSCALE:GREGORIAN
METHOD:PUBLISH
X-WR-CALNAME:Jungwacht Blauring St.Otmar-Riethüsli
X-ORIGINAL-URL:https://jubla-st-otmar-riethuesli.ch
X-WR-CALDESC:Veranstaltungen im Jungwacht Blauring St.Otmar-Riethüsli
REFRESH-INTERVAL;VALUE=DURATION:PT1H
X-Robots-Tag:noindex
X-PUBLISHED-TTL:PT1H
BEGIN:VTIMEZONE
TZID:UTC
BEGIN:STANDARD
TZOFFSETFROM:+0000
TZOFFSETTO:+0000
TZNAME:UTC
DTSTART:20250101T000000
END:STANDARD
END:VTIMEZONE
BEGIN:VEVENT
DTSTART;VALUE=DATE:20260706
DTEND;VALUE=DATE:20260716
DTSTAMP:20260419T213502
CREATED:20250926T140212Z
LAST-MODIFIED:20250926T140212Z
UID:3254-1783296000-1784159999@jubla-st-otmar-riethuesli.ch
SUMMARY:Sommerlager 2026
DESCRIPTION:
URL:https://jubla-st-otmar-riethuesli.ch/agenda/sommerlager-2026/
LOCATION:Hoch-Ybrig
ORGANIZER;CN="Jubla St.Otmar-Rieth%C3%BCsli":MAILTO:jubla-stor@gmx.ch
END:VEVENT
END:VCALENDAR