BEGIN:VCALENDAR
VERSION:2.0
PRODID:-//Jungwacht Blauring St.Otmar-Riethüsli - ECPv6.15.14//NONSGML v1.0//EN
CALSCALE:GREGORIAN
METHOD:PUBLISH
X-ORIGINAL-URL:https://jubla-st-otmar-riethuesli.ch
X-WR-CALDESC:Veranstaltungen im Jungwacht Blauring St.Otmar-Riethüsli
REFRESH-INTERVAL;VALUE=DURATION:PT1H
X-Robots-Tag:noindex
X-PUBLISHED-TTL:PT1H
BEGIN:VTIMEZONE
TZID:UTC
BEGIN:STANDARD
TZOFFSETFROM:+0000
TZOFFSETTO:+0000
TZNAME:UTC
DTSTART:20240101T000000
END:STANDARD
END:VTIMEZONE
BEGIN:VEVENT
DTSTART;TZID=UTC:20250707T090000
DTEND;TZID=UTC:20250716T150000
DTSTAMP:20260420T081239
CREATED:20250311T123616Z
LAST-MODIFIED:20250319T185308Z
UID:2724-1751878800-1752678000@jubla-st-otmar-riethuesli.ch
SUMMARY:Sola 2025
DESCRIPTION:
URL:https://jubla-st-otmar-riethuesli.ch/agenda/sola-2025/
CATEGORIES:Lager
ORGANIZER;CN="Jubla St.Otmar-Rieth%C3%BCsli":MAILTO:jubla-stor@gmx.ch
END:VEVENT
END:VCALENDAR